BEGIN:VCALENDAR
PRODID:-//SoulAndWolf//SilverStripe//EN
VERSION:2.0
CALSCALE:GREGORIAN
METHOD:PUBLISH
BEGIN:VEVENT
UID:start-of-term-1-all-students-event-101
DTSTAMP:20251205T143106Z
DTSTART:20270128T130000Z
DTEND:20270129T125900Z
SUMMARY:Start of Term 1 (all students)
END:VEVENT
END:VCALENDAR