BEGIN:VCALENDAR
PRODID:-//SoulAndWolf//SilverStripe//EN
VERSION:2.0
CALSCALE:GREGORIAN
METHOD:PUBLISH
BEGIN:VEVENT
UID:end-of-term-1-all-students-event-102
DTSTAMP:20251205T143116Z
DTSTART:20270324T130000Z
DTEND:20270325T125900Z
SUMMARY:End of Term 1 (all students)
END:VEVENT
END:VCALENDAR