BEGIN:VCALENDAR
PRODID:-//SoulAndWolf//SilverStripe//EN
VERSION:2.0
CALSCALE:GREGORIAN
METHOD:PUBLISH
BEGIN:VEVENT
UID:end-of-term-2-all-students-event-104
DTSTAMP:20251205T143126Z
DTSTART:20270624T140000Z
DTEND:20270625T135900Z
SUMMARY:End of Term 2 (all students)
END:VEVENT
END:VCALENDAR