BEGIN:VCALENDAR
PRODID:-//SoulAndWolf//SilverStripe//EN
VERSION:2.0
CALSCALE:GREGORIAN
METHOD:PUBLISH
BEGIN:VEVENT
UID:start-of-term-3-all-students-event-105
DTSTAMP:20251205T142725Z
DTSTART:20270713T140000Z
DTEND:20270714T135900Z
SUMMARY:Start of Term 3 (all students)
END:VEVENT
END:VCALENDAR