BEGIN:VCALENDAR
PRODID:-//SoulAndWolf//SilverStripe//EN
VERSION:2.0
CALSCALE:GREGORIAN
METHOD:PUBLISH
BEGIN:VEVENT
UID:end-of-term-3-all-students-event-106
DTSTAMP:20251205T142822Z
DTSTART:20270909T140000Z
DTEND:20270910T135900Z
SUMMARY:End of Term 3 (all students)
END:VEVENT
END:VCALENDAR