BEGIN:VCALENDAR
PRODID:-//SoulAndWolf//SilverStripe//EN
VERSION:2.0
CALSCALE:GREGORIAN
METHOD:PUBLISH
BEGIN:VEVENT
UID:start-of-term-4-all-students-event-107
DTSTAMP:20251205T142849Z
DTSTART:20271004T130000Z
DTEND:20271005T125900Z
SUMMARY:Start of Term 4 (all students)
END:VEVENT
END:VCALENDAR