BEGIN:VCALENDAR
PRODID:-//SoulAndWolf//SilverStripe//EN
VERSION:2.0
CALSCALE:GREGORIAN
METHOD:PUBLISH
BEGIN:VEVENT
UID:end-of-term-4-k-5-and-7-11-event-108
DTSTAMP:20251205T142912Z
DTSTART:20271206T130000Z
DTEND:20271207T125900Z
SUMMARY:End of Term 4 (K-5 & 7-11) 
END:VEVENT
END:VCALENDAR