BEGIN:VCALENDAR
PRODID:-//SoulAndWolf//SilverStripe//EN
VERSION:2.0
CALSCALE:GREGORIAN
METHOD:PUBLISH
BEGIN:VEVENT
UID:end-of-term-4-year-6-event-109
DTSTAMP:20251205T143045Z
DTSTART:20271207T130000Z
DTEND:20271208T125900Z
SUMMARY:End of Term 4 (Year 6) 
END:VEVENT
END:VCALENDAR