BEGIN:VCALENDAR
PRODID:-//SoulAndWolf//SilverStripe//EN
VERSION:2.0
CALSCALE:GREGORIAN
METHOD:PUBLISH
BEGIN:VEVENT
UID:kings-birthday-public-holiday-event-79
DTSTAMP:20250512T122830Z
DTSTART:20260607T140000Z
DTEND:20260608T135900Z
SUMMARY:King's Birthday Public Holiday
END:VEVENT
END:VCALENDAR