BEGIN:VCALENDAR
PRODID:-//SoulAndWolf//SilverStripe//EN
VERSION:2.0
CALSCALE:GREGORIAN
METHOD:PUBLISH
BEGIN:VEVENT
UID:end-of-term-2-event-80
DTSTAMP:20250512T123723Z
DTSTART:20260625T140000Z
DTEND:20260626T135900Z
SUMMARY:End of Term 2
END:VEVENT
END:VCALENDAR