BEGIN:VCALENDAR
PRODID:-//SoulAndWolf//SilverStripe//EN
VERSION:2.0
CALSCALE:GREGORIAN
METHOD:PUBLISH
BEGIN:VEVENT
UID:term-3-staff-day-1-event-81
DTSTAMP:20250512T122943Z
DTSTART:20260712T140000Z
DTEND:20260713T135900Z
SUMMARY:Term 3 Staff Day 1
END:VEVENT
END:VCALENDAR