BEGIN:VCALENDAR
PRODID:-//SoulAndWolf//SilverStripe//EN
VERSION:2.0
CALSCALE:GREGORIAN
METHOD:PUBLISH
BEGIN:VEVENT
UID:term-3-staff-day-2-event-82
DTSTAMP:20250512T123010Z
DTSTART:20260713T140000Z
DTEND:20260714T135900Z
SUMMARY:Term 3 Staff Day 2
END:VEVENT
END:VCALENDAR