BEGIN:VCALENDAR
PRODID:-//SoulAndWolf//SilverStripe//EN
VERSION:2.0
CALSCALE:GREGORIAN
METHOD:PUBLISH
BEGIN:VEVENT
UID:start-of-term-3-all-students-event-83
DTSTAMP:20250512T123034Z
DTSTART:20260714T140000Z
DTEND:20260715T135900Z
SUMMARY:Start of Term 3 (All Students)
END:VEVENT
END:VCALENDAR