BEGIN:VCALENDAR
PRODID:-//SoulAndWolf//SilverStripe//EN
VERSION:2.0
CALSCALE:GREGORIAN
METHOD:PUBLISH
BEGIN:VEVENT
UID:end-of-term-3-all-students-event-84
DTSTAMP:20250512T123109Z
DTSTART:20260910T140000Z
DTEND:20260911T135900Z
SUMMARY:End of Term 3 (All students)
END:VEVENT
END:VCALENDAR