BEGIN:VCALENDAR
PRODID:-//SoulAndWolf//SilverStripe//EN
VERSION:2.0
CALSCALE:GREGORIAN
METHOD:PUBLISH
BEGIN:VEVENT
UID:term-4-staff-day-event-85
DTSTAMP:20250512T123131Z
DTSTART:20261004T130000Z
DTEND:20261005T125900Z
SUMMARY:Term 4 Staff Day 
END:VEVENT
END:VCALENDAR