BEGIN:VCALENDAR
PRODID:-//SoulAndWolf//SilverStripe//EN
VERSION:2.0
CALSCALE:GREGORIAN
METHOD:PUBLISH
BEGIN:VEVENT
UID:start-of-term-4-all-students-event-86
DTSTAMP:20250512T123216Z
DTSTART:20261005T130000Z
DTEND:20261006T125900Z
SUMMARY:Start of Term 4 (All students)
END:VEVENT
END:VCALENDAR