BEGIN:VCALENDAR
PRODID:-//SoulAndWolf//SilverStripe//EN
VERSION:2.0
CALSCALE:GREGORIAN
METHOD:PUBLISH
BEGIN:VEVENT
UID:mid-term-break-event-87
DTSTAMP:20250512T123642Z
DTSTART:20261101T130000Z
DTEND:20261102T125900Z
SUMMARY:Mid-Term Break
END:VEVENT
END:VCALENDAR