BEGIN:VCALENDAR
PRODID:-//SoulAndWolf//SilverStripe//EN
VERSION:2.0
CALSCALE:GREGORIAN
METHOD:PUBLISH
BEGIN:VEVENT
UID:melbourne-cup-public-holiday-event-88
DTSTAMP:20250512T123319Z
DTSTART:20261102T130000Z
DTEND:20261103T125900Z
SUMMARY:Melbourne Cup Public Holiday
END:VEVENT
END:VCALENDAR