BEGIN:VCALENDAR
PRODID:-//SoulAndWolf//SilverStripe//EN
VERSION:2.0
CALSCALE:GREGORIAN
METHOD:PUBLISH
BEGIN:VEVENT
UID:end-of-term-4-year-6-event-90
DTSTAMP:20250512T123442Z
DTSTART:20261206T130000Z
DTEND:20261207T125900Z
SUMMARY:End of Term 4 (Year 6)
END:VEVENT
END:VCALENDAR