BEGIN:VCALENDAR
PRODID:-//SoulAndWolf//SilverStripe//EN
VERSION:2.0
CALSCALE:GREGORIAN
METHOD:PUBLISH
BEGIN:VEVENT
UID:office-closes-event-91
DTSTAMP:20250512T124218Z
DTSTART:20261217T130000Z
DTEND:20261218T125900Z
SUMMARY:Office Closes
END:VEVENT
END:VCALENDAR